Package: OpenStats Version: 1.23.0 Command: /home/biocbuild/bbs-3.23-bioc/R/bin/R CMD INSTALL OpenStats StartedAt: 2025-11-11 15:13:41 -0500 (Tue, 11 Nov 2025) EndedAt: 2025-11-11 15:14:01 -0500 (Tue, 11 Nov 2025) EllapsedTime: 19.8 seconds RetCode: 0 Status: OK