Package: OpenStats Version: 1.23.0 Command: /home/biocbuild/bbs-3.23-bioc/R/bin/R CMD build --keep-empty-dirs --no-resave-data OpenStats StartedAt: 2025-11-13 19:05:04 -0500 (Thu, 13 Nov 2025) EndedAt: 2025-11-13 19:05:29 -0500 (Thu, 13 Nov 2025) EllapsedTime: 25.3 seconds RetCode: 0 Status: OK PackageFile: OpenStats_1.23.0.tar.gz PackageFileSize: 576.2 KiB