Package: OpenStats Version: 1.23.0 Command: /Library/Frameworks/R.framework/Resources/bin/R CMD build --keep-empty-dirs --no-resave-data OpenStats StartedAt: 2025-11-13 17:14:52 -0500 (Thu, 13 Nov 2025) EndedAt: 2025-11-13 17:15:03 -0500 (Thu, 13 Nov 2025) EllapsedTime: 11.1 seconds RetCode: 0 Status: OK PackageFile: OpenStats_1.23.0.tar.gz PackageFileSize: 600.6 KiB