Package: OpenStats Version: 1.23.0 Command: rm -rf OpenStats.buildbin-libdir && mkdir OpenStats.buildbin-libdir && /Users/biocbuild/BBS/utils/build-universal.sh OpenStats_1.23.0.tar.gz /Library/Frameworks/R.framework/Resources/bin/R OpenStats.buildbin-libdir StartedAt: 2025-11-13 23:49:25 -0500 (Thu, 13 Nov 2025) EndedAt: 2025-11-13 23:49:33 -0500 (Thu, 13 Nov 2025) EllapsedTime: 8.2 seconds RetCode: 0 Status: OK PackageFile: OpenStats_1.23.0.tgz PackageFileSize: 917.3 KiB