Package: OpenStats Version: 1.23.0 Maintainer: Marina Kan MaintainerEmail: marinak at ebi.ac.uk git_url: https://git.bioconductor.org/packages/OpenStats git_branch: devel git_last_commit: cd2f9e9 git_last_commit_date: 2025-10-29 10:58:46 -0500 (Wed, 29 Oct 2025)