Package: OncoSimulR Version: 4.13.0 Command: /home/biocbuild/bbs-3.23-bioc/R/bin/R CMD INSTALL OncoSimulR StartedAt: 2025-11-14 15:15:48 -0500 (Fri, 14 Nov 2025) EndedAt: 2025-11-14 15:18:24 -0500 (Fri, 14 Nov 2025) EllapsedTime: 155.9 seconds RetCode: 0 Status: OK