Package: OncoSimulR Version: 4.13.0 Command: /home/biocbuild/bbs-3.23-bioc/R/bin/R CMD build --keep-empty-dirs --no-resave-data OncoSimulR StartedAt: 2025-11-14 19:04:36 -0500 (Fri, 14 Nov 2025) EndedAt: 2025-11-14 19:11:05 -0500 (Fri, 14 Nov 2025) EllapsedTime: 388.5 seconds RetCode: 0 Status: OK PackageFile: OncoSimulR_4.13.0.tar.gz PackageFileSize: 8.429 MiB