Package: OncoSimulR Version: 4.13.0 Maintainer: Ramon Diaz-Uriarte MaintainerEmail: rdiaz02 at gmail.com git_url: https://git.bioconductor.org/packages/OncoSimulR git_branch: devel git_last_commit: d241471 git_last_commit_date: 2025-10-29 10:20:29 -0500 (Wed, 29 Oct 2025)