Package: OncoScore Version: 1.39.0 Command: /Library/Frameworks/R.framework/Resources/bin/R CMD build --keep-empty-dirs --no-resave-data OncoScore StartedAt: 2025-11-12 16:51:56 -0500 (Wed, 12 Nov 2025) EndedAt: 2025-11-12 16:52:34 -0500 (Wed, 12 Nov 2025) EllapsedTime: 37.5 seconds RetCode: 0 Status: OK PackageFile: OncoScore_1.39.0.tar.gz PackageFileSize: 916.8 KiB