Package: OncoScore Version: 1.39.0 Command: rm -rf OncoScore.buildbin-libdir && mkdir OncoScore.buildbin-libdir && /Users/biocbuild/BBS/utils/build-universal.sh OncoScore_1.39.0.tar.gz /Library/Frameworks/R.framework/Resources/bin/R OncoScore.buildbin-libdir StartedAt: 2025-11-12 21:05:22 -0500 (Wed, 12 Nov 2025) EndedAt: 2025-11-12 21:05:30 -0500 (Wed, 12 Nov 2025) EllapsedTime: 7.2 seconds RetCode: 0 Status: OK PackageFile: OncoScore_1.39.0.tgz PackageFileSize: 970.9 KiB