Package: OmicsMLRepoR Version: 1.5.0 Command: /Library/Frameworks/R.framework/Resources/bin/R CMD INSTALL OmicsMLRepoR StartedAt: 2025-11-12 15:23:13 -0500 (Wed, 12 Nov 2025) EndedAt: 2025-11-12 15:23:17 -0500 (Wed, 12 Nov 2025) EllapsedTime: 3.4 seconds RetCode: 0 Status: OK