Package: OmicsMLRepoR Version: 1.5.0 Command: /Library/Frameworks/R.framework/Resources/bin/R CMD check --install=check:OmicsMLRepoR.install-out.txt --library=/Library/Frameworks/R.framework/Resources/library --no-vignettes --timings OmicsMLRepoR_1.5.0.tar.gz StartedAt: 2025-11-27 21:36:19 -0500 (Thu, 27 Nov 2025) EndedAt: 2025-11-27 21:37:24 -0500 (Thu, 27 Nov 2025) EllapsedTime: 64.8 seconds RetCode: 0 Status: OK CheckDir: OmicsMLRepoR.Rcheck Warnings: 0