Package: OmicsMLRepoR Version: 1.5.0 Command: rm -rf OmicsMLRepoR.buildbin-libdir && mkdir OmicsMLRepoR.buildbin-libdir && /Users/biocbuild/BBS/utils/build-universal.sh OmicsMLRepoR_1.5.0.tar.gz /Library/Frameworks/R.framework/Resources/bin/R OmicsMLRepoR.buildbin-libdir StartedAt: 2025-11-13 23:49:10 -0500 (Thu, 13 Nov 2025) EndedAt: 2025-11-13 23:49:16 -0500 (Thu, 13 Nov 2025) EllapsedTime: 5.1 seconds RetCode: 0 Status: OK PackageFile: OmicsMLRepoR_1.5.0.tgz PackageFileSize: 324.6 KiB