Package: OmicsMLRepoR Version: 1.5.0 Maintainer: Sehyun Oh MaintainerEmail: shbrief at gmail.com git_url: https://git.bioconductor.org/packages/OmicsMLRepoR git_branch: devel git_last_commit: a6fb0be git_last_commit_date: 2025-10-29 11:32:50 -0500 (Wed, 29 Oct 2025)