Package: OmicCircos Version: 1.49.0 Command: /home/biocbuild/bbs-3.23-bioc/R/bin/R CMD build --keep-empty-dirs --no-resave-data OmicCircos StartedAt: 2025-11-16 19:07:41 -0500 (Sun, 16 Nov 2025) EndedAt: 2025-11-16 19:08:07 -0500 (Sun, 16 Nov 2025) EllapsedTime: 26.1 seconds RetCode: 0 Status: OK PackageFile: OmicCircos_1.49.0.tar.gz PackageFileSize: 2.808 MiB