Package: OmicCircos Version: 1.49.0 Command: /Library/Frameworks/R.framework/Resources/bin/R CMD build --keep-empty-dirs --no-resave-data OmicCircos StartedAt: 2025-11-13 17:13:50 -0500 (Thu, 13 Nov 2025) EndedAt: 2025-11-13 17:14:02 -0500 (Thu, 13 Nov 2025) EllapsedTime: 12.1 seconds RetCode: 0 Status: OK PackageFile: OmicCircos_1.49.0.tar.gz PackageFileSize: 4.956 MiB