Package: OmicCircos Version: 1.49.0 Maintainer: Ying Hu MaintainerEmail: yhu at mail.nih.gov git_url: https://git.bioconductor.org/packages/OmicCircos git_branch: devel git_last_commit: 303af10 git_last_commit_date: 2025-10-29 10:15:31 -0500 (Wed, 29 Oct 2025)