Package: OmaDB Version: 2.27.0 Command: /Library/Frameworks/R.framework/Resources/bin/R CMD INSTALL OmaDB StartedAt: 2025-11-17 15:20:27 -0500 (Mon, 17 Nov 2025) EndedAt: 2025-11-17 15:20:33 -0500 (Mon, 17 Nov 2025) EllapsedTime: 6.3 seconds RetCode: 0 Status: OK