Package: OmaDB Version: 2.27.0 Command: /Library/Frameworks/R.framework/Resources/bin/R CMD build --keep-empty-dirs --no-resave-data OmaDB StartedAt: 2025-11-16 17:11:42 -0500 (Sun, 16 Nov 2025) EndedAt: 2025-11-16 17:11:53 -0500 (Sun, 16 Nov 2025) EllapsedTime: 11.1 seconds RetCode: 0 Status: OK PackageFile: OmaDB_2.27.0.tar.gz PackageFileSize: 98.17 KiB