Package: OUTRIDER Version: 1.29.0 Command: /Library/Frameworks/R.framework/Resources/bin/R CMD INSTALL OUTRIDER StartedAt: 2025-11-14 15:21:57 -0500 (Fri, 14 Nov 2025) EndedAt: 2025-11-14 15:22:19 -0500 (Fri, 14 Nov 2025) EllapsedTime: 22.1 seconds RetCode: 0 Status: OK