Package: OUTRIDER Version: 1.29.0 Command: /Library/Frameworks/R.framework/Resources/bin/R CMD build --keep-empty-dirs --no-resave-data OUTRIDER StartedAt: 2025-11-14 17:13:12 -0500 (Fri, 14 Nov 2025) EndedAt: 2025-11-14 17:15:26 -0500 (Fri, 14 Nov 2025) EllapsedTime: 133.4 seconds RetCode: 0 Status: OK PackageFile: OUTRIDER_1.29.0.tar.gz PackageFileSize: 2.502 MiB