Package: OUTRIDER Version: 1.29.0 Command: rm -rf OUTRIDER.buildbin-libdir && mkdir OUTRIDER.buildbin-libdir && /Users/biocbuild/BBS/utils/build-universal.sh OUTRIDER_1.29.0.tar.gz /Library/Frameworks/R.framework/Resources/bin/R OUTRIDER.buildbin-libdir StartedAt: 2025-11-14 23:44:44 -0500 (Fri, 14 Nov 2025) EndedAt: 2025-11-14 23:45:11 -0500 (Fri, 14 Nov 2025) EllapsedTime: 27.7 seconds RetCode: 0 Status: OK PackageFile: OUTRIDER_1.29.0.tgz PackageFileSize: 2.585 MiB