Package: OTUbase Version: 1.61.0 Command: /home/biocbuild/bbs-3.23-bioc/R/bin/R CMD INSTALL OTUbase StartedAt: 2025-11-21 15:52:25 -0500 (Fri, 21 Nov 2025) EndedAt: 2025-11-21 15:52:56 -0500 (Fri, 21 Nov 2025) EllapsedTime: 31.2 seconds RetCode: 0 Status: OK