Package: OTUbase Version: 1.61.0 Command: /home/biocbuild/bbs-3.23-bioc/R/bin/R CMD build --keep-empty-dirs --no-resave-data OTUbase StartedAt: 2025-11-21 19:10:46 -0500 (Fri, 21 Nov 2025) EndedAt: 2025-11-21 19:12:02 -0500 (Fri, 21 Nov 2025) EllapsedTime: 76.1 seconds RetCode: 0 Status: OK PackageFile: OTUbase_1.61.0.tar.gz PackageFileSize: 179.3 KiB