Package: OTUbase Version: 1.61.0 Command: /Library/Frameworks/R.framework/Resources/bin/R CMD build --keep-empty-dirs --no-resave-data OTUbase StartedAt: 2025-11-13 17:16:04 -0500 (Thu, 13 Nov 2025) EndedAt: 2025-11-13 17:16:27 -0500 (Thu, 13 Nov 2025) EllapsedTime: 23.2 seconds RetCode: 0 Status: OK PackageFile: OTUbase_1.61.0.tar.gz PackageFileSize: 179 KiB