Package: OTUbase Version: 1.61.0 Command: rm -rf OTUbase.buildbin-libdir && mkdir OTUbase.buildbin-libdir && /Users/biocbuild/BBS/utils/build-universal.sh OTUbase_1.61.0.tar.gz /Library/Frameworks/R.framework/Resources/bin/R OTUbase.buildbin-libdir StartedAt: 2025-11-13 23:49:36 -0500 (Thu, 13 Nov 2025) EndedAt: 2025-11-13 23:49:51 -0500 (Thu, 13 Nov 2025) EllapsedTime: 15.3 seconds RetCode: 0 Status: OK PackageFile: OTUbase_1.61.0.tgz PackageFileSize: 561.7 KiB