Package: OSAT Version: 1.59.0 Command: /home/biocbuild/bbs-3.23-bioc/R/bin/R CMD INSTALL OSAT StartedAt: 2025-11-13 15:02:24 -0500 (Thu, 13 Nov 2025) EndedAt: 2025-11-13 15:02:29 -0500 (Thu, 13 Nov 2025) EllapsedTime: 4.6 seconds RetCode: 0 Status: OK