Package: OSAT Version: 1.59.0 Command: /home/biocbuild/bbs-3.23-bioc/R/bin/R CMD build --keep-empty-dirs --no-resave-data OSAT StartedAt: 2025-11-13 19:06:37 -0500 (Thu, 13 Nov 2025) EndedAt: 2025-11-13 19:07:37 -0500 (Thu, 13 Nov 2025) EllapsedTime: 60.1 seconds RetCode: 0 Status: OK PackageFile: OSAT_1.59.0.tar.gz PackageFileSize: 960.1 KiB