Package: OSAT Version: 1.59.0 Command: /Library/Frameworks/R.framework/Resources/bin/R CMD INSTALL OSAT StartedAt: 2025-11-13 15:01:31 -0500 (Thu, 13 Nov 2025) EndedAt: 2025-11-13 15:01:32 -0500 (Thu, 13 Nov 2025) EllapsedTime: 1.5 seconds RetCode: 0 Status: OK