Package: OSAT Version: 1.59.0 Command: rm -rf OSAT.buildbin-libdir && mkdir OSAT.buildbin-libdir && /Users/biocbuild/BBS/utils/build-universal.sh OSAT_1.59.0.tar.gz /Library/Frameworks/R.framework/Resources/bin/R OSAT.buildbin-libdir StartedAt: 2025-11-13 23:49:33 -0500 (Thu, 13 Nov 2025) EndedAt: 2025-11-13 23:49:36 -0500 (Thu, 13 Nov 2025) EllapsedTime: 3.1 seconds RetCode: 0 Status: OK PackageFile: OSAT_1.59.0.tgz PackageFileSize: 649.3 KiB