Package: ORFik Version: 1.31.0 Command: /Library/Frameworks/R.framework/Resources/bin/R CMD build --keep-empty-dirs --no-resave-data ORFik StartedAt: 2025-11-12 16:52:19 -0500 (Wed, 12 Nov 2025) EndedAt: 2025-11-12 16:54:42 -0500 (Wed, 12 Nov 2025) EllapsedTime: 142.7 seconds RetCode: 0 Status: OK PackageFile: ORFik_1.31.0.tar.gz PackageFileSize: 4.171 MiB