Package: ORFik Version: 1.31.0 Maintainer: Haakon Tjeldnes MaintainerEmail: hauken_heyken at hotmail.com git_url: https://git.bioconductor.org/packages/ORFik git_branch: devel git_last_commit: 1c0375d git_last_commit_date: 2025-10-29 10:45:22 -0500 (Wed, 29 Oct 2025)