Package: ORFhunteR Version: 1.19.0 Command: /home/biocbuild/bbs-3.23-bioc/R/bin/R CMD INSTALL ORFhunteR StartedAt: 2025-11-14 15:35:49 -0500 (Fri, 14 Nov 2025) EndedAt: 2025-11-14 15:36:32 -0500 (Fri, 14 Nov 2025) EllapsedTime: 43.5 seconds RetCode: 0 Status: OK