Package: ORFhunteR Version: 1.19.0 Command: /home/biocbuild/bbs-3.23-bioc/R/bin/R CMD build --keep-empty-dirs --no-resave-data ORFhunteR StartedAt: 2025-11-14 19:05:40 -0500 (Fri, 14 Nov 2025) EndedAt: 2025-11-14 19:09:09 -0500 (Fri, 14 Nov 2025) EllapsedTime: 208.3 seconds RetCode: 0 Status: OK PackageFile: ORFhunteR_1.19.0.tar.gz PackageFileSize: 2.108 MiB