Package: ORFhunteR Version: 1.19.0 Command: /Library/Frameworks/R.framework/Resources/bin/R CMD INSTALL ORFhunteR StartedAt: 2025-11-14 15:19:48 -0500 (Fri, 14 Nov 2025) EndedAt: 2025-11-14 15:20:05 -0500 (Fri, 14 Nov 2025) EllapsedTime: 16.6 seconds RetCode: 0 Status: OK