Package: OMICsPCA Version: 1.29.0 Command: /Library/Frameworks/R.framework/Resources/bin/R CMD INSTALL OMICsPCA StartedAt: 2025-11-13 15:30:17 -0500 (Thu, 13 Nov 2025) EndedAt: 2025-11-13 15:30:37 -0500 (Thu, 13 Nov 2025) EllapsedTime: 20.5 seconds RetCode: 0 Status: OK