Package: OMICsPCA Version: 1.29.0 Command: rm -rf OMICsPCA.buildbin-libdir && mkdir OMICsPCA.buildbin-libdir && /Users/biocbuild/BBS/utils/build-universal.sh OMICsPCA_1.29.0.tar.gz /Library/Frameworks/R.framework/Resources/bin/R OMICsPCA.buildbin-libdir StartedAt: 2025-11-13 23:49:12 -0500 (Thu, 13 Nov 2025) EndedAt: 2025-11-13 23:49:39 -0500 (Thu, 13 Nov 2025) EllapsedTime: 26.6 seconds RetCode: 0 Status: OK PackageFile: OMICsPCA_1.29.0.tgz PackageFileSize: 7.843 MiB