Package: NormqPCR Version: 1.57.0 Command: /home/biocbuild/bbs-3.23-bioc/R/bin/R CMD INSTALL NormqPCR StartedAt: 2025-11-13 15:13:08 -0500 (Thu, 13 Nov 2025) EndedAt: 2025-11-13 15:13:15 -0500 (Thu, 13 Nov 2025) EllapsedTime: 7.2 seconds RetCode: 0 Status: OK