Package: NormqPCR Version: 1.57.0 Command: /home/biocbuild/bbs-3.23-bioc/R/bin/R CMD build --keep-empty-dirs --no-resave-data NormqPCR StartedAt: 2025-11-13 19:00:50 -0500 (Thu, 13 Nov 2025) EndedAt: 2025-11-13 19:01:04 -0500 (Thu, 13 Nov 2025) EllapsedTime: 14.0 seconds RetCode: 0 Status: OK PackageFile: NormqPCR_1.57.0.tar.gz PackageFileSize: 418 KiB