Package: NormqPCR Version: 1.57.0 Command: /Library/Frameworks/R.framework/Resources/bin/R CMD INSTALL NormqPCR StartedAt: 2025-11-14 15:07:44 -0500 (Fri, 14 Nov 2025) EndedAt: 2025-11-14 15:07:48 -0500 (Fri, 14 Nov 2025) EllapsedTime: 3.0 seconds RetCode: 0 Status: OK