Package: NormqPCR Version: 1.57.0 Command: /Library/Frameworks/R.framework/Resources/bin/R CMD build --keep-empty-dirs --no-resave-data NormqPCR StartedAt: 2025-11-14 17:10:04 -0500 (Fri, 14 Nov 2025) EndedAt: 2025-11-14 17:10:12 -0500 (Fri, 14 Nov 2025) EllapsedTime: 8.1 seconds RetCode: 0 Status: OK PackageFile: NormqPCR_1.57.0.tar.gz PackageFileSize: 417.9 KiB