Package: NormqPCR Version: 1.57.0 Command: rm -rf NormqPCR.buildbin-libdir && mkdir NormqPCR.buildbin-libdir && /Users/biocbuild/BBS/utils/build-universal.sh NormqPCR_1.57.0.tar.gz /Library/Frameworks/R.framework/Resources/bin/R NormqPCR.buildbin-libdir StartedAt: 2025-11-14 23:43:51 -0500 (Fri, 14 Nov 2025) EndedAt: 2025-11-14 23:43:55 -0500 (Fri, 14 Nov 2025) EllapsedTime: 4.1 seconds RetCode: 0 Status: OK PackageFile: NormqPCR_1.57.0.tgz PackageFileSize: 503.3 KiB