Package: NewWave Version: 1.21.0 Maintainer: Federico Agostinis MaintainerEmail: federico.agostinis at outlook.com git_url: https://git.bioconductor.org/packages/NewWave git_branch: devel git_last_commit: b3c35af git_last_commit_date: 2025-10-29 11:04:34 -0500 (Wed, 29 Oct 2025)