Package: NetSAM Version: 1.51.0 Command: /Library/Frameworks/R.framework/Resources/bin/R CMD INSTALL NetSAM StartedAt: 2025-11-13 15:27:04 -0500 (Thu, 13 Nov 2025) EndedAt: 2025-11-13 15:27:13 -0500 (Thu, 13 Nov 2025) EllapsedTime: 9.5 seconds RetCode: 0 Status: OK