Package: NetSAM Version: 1.51.0 Command: rm -rf NetSAM.buildbin-libdir && mkdir NetSAM.buildbin-libdir && /Users/biocbuild/BBS/utils/build-universal.sh NetSAM_1.51.0.tar.gz /Library/Frameworks/R.framework/Resources/bin/R NetSAM.buildbin-libdir StartedAt: 2025-11-13 23:48:31 -0500 (Thu, 13 Nov 2025) EndedAt: 2025-11-13 23:48:44 -0500 (Thu, 13 Nov 2025) EllapsedTime: 12.3 seconds RetCode: 0 Status: OK PackageFile: NetSAM_1.51.0.tgz PackageFileSize: 1.232 MiB