Package: NetSAM Version: 1.51.0 Maintainer: Zhiao Shi MaintainerEmail: zhiao.shi at gmail.com git_url: https://git.bioconductor.org/packages/NetSAM git_branch: devel git_last_commit: e7c982a git_last_commit_date: 2025-10-29 10:15:12 -0500 (Wed, 29 Oct 2025)