Package: NetPathMiner Version: 1.47.0 Command: /Library/Frameworks/R.framework/Resources/bin/R CMD INSTALL NetPathMiner StartedAt: 2025-11-13 15:03:16 -0500 (Thu, 13 Nov 2025) EndedAt: 2025-11-13 15:03:26 -0500 (Thu, 13 Nov 2025) EllapsedTime: 9.2 seconds RetCode: 0 Status: OK