Package: NetPathMiner Version: 1.47.0 Command: rm -rf NetPathMiner.buildbin-libdir && mkdir NetPathMiner.buildbin-libdir && /Users/biocbuild/BBS/utils/build-universal.sh NetPathMiner_1.47.0.tar.gz /Library/Frameworks/R.framework/Resources/bin/R NetPathMiner.buildbin-libdir StartedAt: 2025-11-13 23:48:26 -0500 (Thu, 13 Nov 2025) EndedAt: 2025-11-13 23:48:37 -0500 (Thu, 13 Nov 2025) EllapsedTime: 10.2 seconds RetCode: 0 Status: OK PackageFile: NetPathMiner_1.47.0.tgz PackageFileSize: 2.594 MiB