Package: NetPathMiner Version: 1.47.0 Maintainer: Ahmed Mohamed MaintainerEmail: mohamed at kuicr.kyoto-u.ac.jp git_url: https://git.bioconductor.org/packages/NetPathMiner git_branch: devel git_last_commit: e081c30 git_last_commit_date: 2025-10-29 11:32:22 -0500 (Wed, 29 Oct 2025)