Package: NetActivity Version: 1.13.0 Command: /home/biocbuild/bbs-3.23-bioc/R/bin/R CMD INSTALL NetActivity StartedAt: 2025-11-11 15:34:48 -0500 (Tue, 11 Nov 2025) EndedAt: 2025-11-11 15:35:11 -0500 (Tue, 11 Nov 2025) EllapsedTime: 23.8 seconds RetCode: 0 Status: OK